BEGIN:VCALENDAR
VERSION:2.0
PRODID:-//Cowlitz Timber Trails Association  - ECPv6.15.16.1//NONSGML v1.0//EN
CALSCALE:GREGORIAN
METHOD:PUBLISH
X-WR-CALNAME:Cowlitz Timber Trails Association 
X-ORIGINAL-URL:https://cowlitztimbertrails.com
X-WR-CALDESC:Events for Cowlitz Timber Trails Association 
REFRESH-INTERVAL;VALUE=DURATION:PT1H
X-Robots-Tag:noindex
X-PUBLISHED-TTL:PT1H
BEGIN:VTIMEZONE
TZID:UTC
BEGIN:STANDARD
TZOFFSETFROM:+0000
TZOFFSETTO:+0000
TZNAME:UTC
DTSTART:20250101T000000
END:STANDARD
END:VTIMEZONE
BEGIN:VEVENT
DTSTART;TZID=UTC:20260214T100000
DTEND;TZID=UTC:20260214T120000
DTSTAMP:20260423T160057
CREATED:20260128T195410Z
LAST-MODIFIED:20260128T195410Z
UID:3332-1771063200-1771070400@cowlitztimbertrails.com
SUMMARY:Monthly Board Meeting
DESCRIPTION:
URL:https://cowlitztimbertrails.com/event/monthly-board-meeting/
LOCATION:CTTA Lodge
END:VEVENT
END:VCALENDAR