BEGIN:VCALENDAR
VERSION:2.0
PRODID:-//Cowlitz Timber Trails Association  - ECPv6.15.16.1//NONSGML v1.0//EN
CALSCALE:GREGORIAN
METHOD:PUBLISH
X-WR-CALNAME:Cowlitz Timber Trails Association 
X-ORIGINAL-URL:https://cowlitztimbertrails.com
X-WR-CALDESC:Events for Cowlitz Timber Trails Association 
REFRESH-INTERVAL;VALUE=DURATION:PT1H
X-Robots-Tag:noindex
X-PUBLISHED-TTL:PT1H
BEGIN:VTIMEZONE
TZID:UTC
BEGIN:STANDARD
TZOFFSETFROM:+0000
TZOFFSETTO:+0000
TZNAME:UTC
DTSTART:20250101T000000
END:STANDARD
END:VTIMEZONE
BEGIN:VEVENT
DTSTART;TZID=UTC:20260523T080000
DTEND;TZID=UTC:20260523T170000
DTSTAMP:20260423T100247
CREATED:20251119T230654Z
LAST-MODIFIED:20251119T230818Z
UID:2874-1779523200-1779555600@cowlitztimbertrails.com
SUMMARY:P.A.C TACO TRUCK
DESCRIPTION:
URL:https://cowlitztimbertrails.com/event/p-a-c-taco-truck/
END:VEVENT
BEGIN:VEVENT
DTSTART;TZID=UTC:20260630T080000
DTEND;TZID=UTC:20260630T170000
DTSTAMP:20260423T100247
CREATED:20251129T232417Z
LAST-MODIFIED:20251129T232433Z
UID:2914-1782806400-1782838800@cowlitztimbertrails.com
SUMMARY:ATV/UTV/Golf Cart Registration
DESCRIPTION:Annual Requirement! Due date for 2026 toy registration (to include $35 fee per vehicle and updated tab sticker). Required for any/all member ATV/UTV/Golf carts on CTTA premises. Current insurance is always required.
URL:https://cowlitztimbertrails.com/event/atv-utv-golf-cart-registration/
END:VEVENT
BEGIN:VEVENT
DTSTART;TZID=UTC:20260704T080000
DTEND;TZID=UTC:20260704T170000
DTSTAMP:20260423T100247
CREATED:20251119T230851Z
LAST-MODIFIED:20251119T230851Z
UID:2877-1783152000-1783184400@cowlitztimbertrails.com
SUMMARY:P.A.C. TACO TRUCK
DESCRIPTION:
URL:https://cowlitztimbertrails.com/event/p-a-c-taco-truck-2/
END:VEVENT
BEGIN:VEVENT
DTSTART;TZID=UTC:20260905T080000
DTEND;TZID=UTC:20260905T170000
DTSTAMP:20260423T100247
CREATED:20251119T230916Z
LAST-MODIFIED:20251119T230916Z
UID:2879-1788595200-1788627600@cowlitztimbertrails.com
SUMMARY:P.A.C. TACO TRUCK
DESCRIPTION:
URL:https://cowlitztimbertrails.com/event/p-a-c-taco-truck-3/
END:VEVENT
END:VCALENDAR