BEGIN:VCALENDAR
VERSION:2.0
PRODID:-//Cowlitz Timber Trails Association  - ECPv6.15.16.1//NONSGML v1.0//EN
CALSCALE:GREGORIAN
METHOD:PUBLISH
X-WR-CALNAME:Cowlitz Timber Trails Association 
X-ORIGINAL-URL:https://cowlitztimbertrails.com
X-WR-CALDESC:Events for Cowlitz Timber Trails Association 
REFRESH-INTERVAL;VALUE=DURATION:PT1H
X-Robots-Tag:noindex
X-PUBLISHED-TTL:PT1H
BEGIN:VTIMEZONE
TZID:UTC
BEGIN:STANDARD
TZOFFSETFROM:+0000
TZOFFSETTO:+0000
TZNAME:UTC
DTSTART:20240101T000000
END:STANDARD
END:VTIMEZONE
BEGIN:VEVENT
DTSTART;TZID=UTC:20260214T100000
DTEND;TZID=UTC:20260214T120000
DTSTAMP:20260423T173024
CREATED:20260128T195410Z
LAST-MODIFIED:20260128T195410Z
UID:3332-1771063200-1771070400@cowlitztimbertrails.com
SUMMARY:Monthly Board Meeting
DESCRIPTION:
URL:https://cowlitztimbertrails.com/event/monthly-board-meeting/
LOCATION:CTTA Lodge
END:VEVENT
BEGIN:VEVENT
DTSTART;TZID=UTC:20251224T000000
DTEND;TZID=UTC:20251225T000000
DTSTAMP:20260423T173024
CREATED:20251119T231136Z
LAST-MODIFIED:20251223T204557Z
UID:2883-1766534400-1766620800@cowlitztimbertrails.com
SUMMARY:Christmas Hours
DESCRIPTION:Office will be closed on the 24th and 25th of December. Happy holidays from our CTTA Staff.
URL:https://cowlitztimbertrails.com/event/christmas-hours/
END:VEVENT
BEGIN:VEVENT
DTSTART;TZID=UTC:20251213T100000
DTEND;TZID=UTC:20251213T100000
DTSTAMP:20260423T173024
CREATED:20251105T235900Z
LAST-MODIFIED:20251203T231207Z
UID:2294-1765620000-1765620000@cowlitztimbertrails.com
SUMMARY:Board meeting
DESCRIPTION:
URL:https://cowlitztimbertrails.com/event/membership-meeting-2/
END:VEVENT
BEGIN:VEVENT
DTSTART;TZID=UTC:20251127T080000
DTEND;TZID=UTC:20251128T170000
DTSTAMP:20260423T173024
CREATED:20251105T223436Z
LAST-MODIFIED:20251105T235414Z
UID:2211-1764230400-1764349200@cowlitztimbertrails.com
SUMMARY:Thanksgiving Office Closed
DESCRIPTION:Office will be closed for the holiday both Thursday and Friday. \nHave a wonderful Thanksgiving!
URL:https://cowlitztimbertrails.com/event/thanksgiving/
END:VEVENT
BEGIN:VEVENT
DTSTART;TZID=UTC:20251108T100000
DTEND;TZID=UTC:20251108T100000
DTSTAMP:20260423T173024
CREATED:20251105T223316Z
LAST-MODIFIED:20251105T235814Z
UID:2208-1762596000-1762596000@cowlitztimbertrails.com
SUMMARY:Membership meeting
DESCRIPTION:
URL:https://cowlitztimbertrails.com/event/membership-meeting/
LOCATION:CTTA Lodge
END:VEVENT
END:VCALENDAR